BEGIN:VCALENDAR
VERSION:2.0
PRODID:icalendar-ruby
CALSCALE:GREGORIAN
METHOD:PUBLISH
BEGIN:VEVENT
DTSTAMP:20260420T050919Z
UID:119-1290357@pentictonalliance.org
DTSTART:20260717T020000Z
DTEND:20260717T030000Z
CLASS:PUBLIC
CREATED:20260419T215058
DESCRIPTION:Men come out and study the word of God with Pastor Brody. Begin
 ning Oct 2025 we will be studying 1 Corinthians together.\n7-8pm in the Fi
 reside room at the church. Please come through the office entrance.\n 
LAST-MODIFIED:20260419T215058
LOCATION:Fireside Room
SUMMARY:Men's Bible Study Life Group - 1st Corinthians
URL;VALUE=URI:https://www.pentictonalliance.org/events/mens-bible-study-lif
 e-group-1st-corinthians/2026-07-16
ATTACH;FILENAME=Men%27s-study-group.jpg;FMTTYPE=image/jpeg:https://dq5pwpg1
 q8ru0.cloudfront.net/2026/01/12/17/31/20/584079a0-ab00-4d5f-8878-9e765d831
 52f/Men%2527s-study-group.jpg
END:VEVENT
END:VCALENDAR
