BEGIN:VCALENDAR
VERSION:2.0
PRODID:icalendar-ruby
CALSCALE:GREGORIAN
METHOD:PUBLISH
BEGIN:VEVENT
DTSTAMP:20260420T233409Z
UID:67-1295730@pentictonalliance.org
DTSTART:20260918T170000Z
DTEND:20260918T180000Z
CLASS:PUBLIC
CREATED:20260420T161203
DESCRIPTION:All men are invited to come out for coffee and encouragement to
 gether.\nMeet at the church on Fridays at 10am. You are also all very welc
 ome to come to Men's prayer with Pastor Bruce at 9am then stick around for
  the coffee time. 
LAST-MODIFIED:20260420T161203
LOCATION:Penticton Alliance Church
SUMMARY:Men's Coffee & Fellowship Time 
URL;VALUE=URI:https://www.pentictonalliance.org/events/mens-coffee-fellowsh
 ip-time/2026-09-18
ATTACH;FILENAME=pexels-ketut-subiyanto-4670719.jpg;FMTTYPE=image/jpeg:https
 ://dq5pwpg1q8ru0.cloudfront.net/2023/10/30/19/14/18/2b184382-0654-4baa-a40
 a-fc9897655e1c/pexels-ketut-subiyanto-4670719.jpg
END:VEVENT
END:VCALENDAR
